BEGIN:VCALENDAR
VERSION:2.0
PRODID:-//DA Kaithal - ECPv6.0.12//NONSGML v1.0//EN
CALSCALE:GREGORIAN
METHOD:PUBLISH
X-WR-CALNAME:DA Kaithal
X-ORIGINAL-URL:https://kaithal.darshanacademy.org
X-WR-CALDESC:Events for DA Kaithal
REFRESH-INTERVAL;VALUE=DURATION:PT1H
X-Robots-Tag:noindex
X-PUBLISHED-TTL:PT1H
BEGIN:VTIMEZONE
TZID:America/Los_Angeles
BEGIN:DAYLIGHT
TZOFFSETFROM:-0800
TZOFFSETTO:-0700
TZNAME:PDT
DTSTART:20230312T100000
END:DAYLIGHT
BEGIN:STANDARD
TZOFFSETFROM:-0700
TZOFFSETTO:-0800
TZNAME:PST
DTSTART:20231105T090000
END:STANDARD
BEGIN:DAYLIGHT
TZOFFSETFROM:-0800
TZOFFSETTO:-0700
TZNAME:PDT
DTSTART:20240310T100000
END:DAYLIGHT
BEGIN:STANDARD
TZOFFSETFROM:-0700
TZOFFSETTO:-0800
TZNAME:PST
DTSTART:20241103T090000
END:STANDARD
END:VTIMEZONE
BEGIN:VEVENT
DTSTART;TZID=America/Los_Angeles:20240326T000000
DTEND;TZID=America/Los_Angeles:20240326T000000
DTSTAMP:20260424T140017
CREATED:20230510T051319Z
LAST-MODIFIED:20230510T051319Z
UID:4519-1711411200-1711411200@kaithal.darshanacademy.org
SUMMARY:PTM (ALL CLASSES )
DESCRIPTION:
URL:https://kaithal.darshanacademy.org/event/ptm-all-classes/
CATEGORIES:PTM
END:VEVENT
BEGIN:VEVENT
DTSTART;TZID=America/Los_Angeles:20231216T000000
DTEND;TZID=America/Los_Angeles:20231216T000000
DTSTAMP:20260424T140017
CREATED:20230510T051222Z
LAST-MODIFIED:20230510T051222Z
UID:4497-1702684800-1702684800@kaithal.darshanacademy.org
SUMMARY:PTM (ALL CLASSES)/ SPIRITUAL TALK FOR PARENTS
DESCRIPTION:
URL:https://kaithal.darshanacademy.org/event/ptm-all-classes-spiritual-talk-for-parents-2/
CATEGORIES:PTM
END:VEVENT
BEGIN:VEVENT
DTSTART;TZID=America/Los_Angeles:20230930T000000
DTEND;TZID=America/Los_Angeles:20230930T000000
DTSTAMP:20260424T140017
CREATED:20230510T051050Z
LAST-MODIFIED:20230510T051050Z
UID:4473-1696032000-1696032000@kaithal.darshanacademy.org
SUMMARY:PTM (ALL CLASSES) / SPIRITUAL TALK FOR PARENTS
DESCRIPTION:
URL:https://kaithal.darshanacademy.org/event/ptm-all-classes-spiritual-talk-for-parents/
CATEGORIES:PTM
END:VEVENT
BEGIN:VEVENT
DTSTART;TZID=America/Los_Angeles:20230722T000000
DTEND;TZID=America/Los_Angeles:20230722T000000
DTSTAMP:20260424T140017
CREATED:20230510T050959Z
LAST-MODIFIED:20230510T050959Z
UID:4447-1689984000-1689984000@kaithal.darshanacademy.org
SUMMARY:PTM (I - VIII)
DESCRIPTION:
URL:https://kaithal.darshanacademy.org/event/ptm-i-viii/
CATEGORIES:PTM
END:VEVENT
BEGIN:VEVENT
DTSTART;TZID=America/Los_Angeles:20230520T000000
DTEND;TZID=America/Los_Angeles:20230520T000000
DTSTAMP:20260424T140017
CREATED:20230510T050921Z
LAST-MODIFIED:20230510T050921Z
UID:4430-1684540800-1684540800@kaithal.darshanacademy.org
SUMMARY:PTM (NURSERY- V)
DESCRIPTION:
URL:https://kaithal.darshanacademy.org/event/ptm-nursery-v/
CATEGORIES:PTM
END:VEVENT
BEGIN:VEVENT
DTSTART;TZID=America/Los_Angeles:20230406T000000
DTEND;TZID=America/Los_Angeles:20230406T000000
DTSTAMP:20260424T140017
CREATED:20230510T050903Z
LAST-MODIFIED:20230510T050903Z
UID:4418-1680739200-1680739200@kaithal.darshanacademy.org
SUMMARY:PTM (PRE PRIMARY)
DESCRIPTION:
URL:https://kaithal.darshanacademy.org/event/ptm-pre-primary/
CATEGORIES:PTM
END:VEVENT
END:VCALENDAR