BEGIN:VCALENDAR
VERSION:2.0
PRODID:-//DA Kaithal - ECPv6.0.12//NONSGML v1.0//EN
CALSCALE:GREGORIAN
METHOD:PUBLISH
X-WR-CALNAME:DA Kaithal
X-ORIGINAL-URL:https://kaithal.darshanacademy.org
X-WR-CALDESC:Events for DA Kaithal
REFRESH-INTERVAL;VALUE=DURATION:PT1H
X-Robots-Tag:noindex
X-PUBLISHED-TTL:PT1H
BEGIN:VTIMEZONE
TZID:America/Los_Angeles
BEGIN:DAYLIGHT
TZOFFSETFROM:-0800
TZOFFSETTO:-0700
TZNAME:PDT
DTSTART:20230312T100000
END:DAYLIGHT
BEGIN:STANDARD
TZOFFSETFROM:-0700
TZOFFSETTO:-0800
TZNAME:PST
DTSTART:20231105T090000
END:STANDARD
END:VTIMEZONE
BEGIN:VEVENT
DTSTART;TZID=America/Los_Angeles:20231130T000000
DTEND;TZID=America/Los_Angeles:20231130T000000
DTSTAMP:20260424T174605
CREATED:20230510T051206Z
LAST-MODIFIED:20230510T051206Z
UID:4495-1701302400-1701302400@kaithal.darshanacademy.org
SUMMARY:NATIONAL SPIRITUAL TALK FOR PARENTS
DESCRIPTION:
URL:https://kaithal.darshanacademy.org/event/national-spiritual-talk-for-parents-2/
CATEGORIES:PROFESSIONAL DEVELOPMENT PROGRAMME
END:VEVENT
BEGIN:VEVENT
DTSTART;TZID=America/Los_Angeles:20231123T000000
DTEND;TZID=America/Los_Angeles:20231123T000000
DTSTAMP:20260424T174605
CREATED:20230510T051201Z
LAST-MODIFIED:20230510T051201Z
UID:4491-1700697600-1700697600@kaithal.darshanacademy.org
SUMMARY:NATIONAL SPIRITUAL TALK FOR PARENTS
DESCRIPTION:
URL:https://kaithal.darshanacademy.org/event/national-spiritual-talk-for-parents/
CATEGORIES:PROFESSIONAL DEVELOPMENT PROGRAMME
END:VEVENT
BEGIN:VEVENT
DTSTART;TZID=America/Los_Angeles:20231118T000000
DTEND;TZID=America/Los_Angeles:20231118T000000
DTSTAMP:20260424T174605
CREATED:20230510T051201Z
LAST-MODIFIED:20230510T051201Z
UID:4489-1700265600-1700265600@kaithal.darshanacademy.org
SUMMARY:ZONAL WORKSHOP FOR TEACHERS TEACHING E.V.S.(III- V)
DESCRIPTION:
URL:https://kaithal.darshanacademy.org/event/zonal-workshop-for-teachers-teaching-e-v-s-iii-v/
CATEGORIES:PROFESSIONAL DEVELOPMENT PROGRAMME
END:VEVENT
BEGIN:VEVENT
DTSTART;TZID=America/Los_Angeles:20231104T000000
DTEND;TZID=America/Los_Angeles:20231104T000000
DTSTAMP:20260424T174605
CREATED:20230510T051145Z
LAST-MODIFIED:20230510T051145Z
UID:4485-1699056000-1699056000@kaithal.darshanacademy.org
SUMMARY:INTERNAL SPIRITUAL TALK FOR TEACHERS
DESCRIPTION:
URL:https://kaithal.darshanacademy.org/event/internal-spiritual-talk-for-teachers-2/
CATEGORIES:PROFESSIONAL DEVELOPMENT PROGRAMME
END:VEVENT
BEGIN:VEVENT
DTSTART;TZID=America/Los_Angeles:20231027T000000
DTEND;TZID=America/Los_Angeles:20231027T000000
DTSTAMP:20260424T174605
CREATED:20230510T051107Z
LAST-MODIFIED:20230510T051107Z
UID:4481-1698364800-1698364800@kaithal.darshanacademy.org
SUMMARY:NATIONAL SPIRITUAL TALK FOR TEACHERS / HELLOWEEN DAY
DESCRIPTION:
URL:https://kaithal.darshanacademy.org/event/national-spiritual-talk-for-teachers-helloween-day/
CATEGORIES:PROFESSIONAL DEVELOPMENT PROGRAMME
END:VEVENT
BEGIN:VEVENT
DTSTART;TZID=America/Los_Angeles:20231021T000000
DTEND;TZID=America/Los_Angeles:20231021T000000
DTSTAMP:20260424T174605
CREATED:20230510T051107Z
LAST-MODIFIED:20230510T051107Z
UID:4479-1697846400-1697846400@kaithal.darshanacademy.org
SUMMARY:ZONAL WORKSHOP FOR TEACHERS TEACHING HINDI ( III - V)
DESCRIPTION:
URL:https://kaithal.darshanacademy.org/event/zonal-workshop-for-teachers-teaching-hindi-iii-v/
CATEGORIES:PROFESSIONAL DEVELOPMENT PROGRAMME
END:VEVENT
BEGIN:VEVENT
DTSTART;TZID=America/Los_Angeles:20230824T000000
DTEND;TZID=America/Los_Angeles:20230825T000000
DTSTAMP:20260424T174605
CREATED:20230510T051010Z
LAST-MODIFIED:20230510T051010Z
UID:4458-1692835200-1692921600@kaithal.darshanacademy.org
SUMMARY:NATIONAL WORKSHOP FOR PRE-PRIMARY TEACHERS
DESCRIPTION:
URL:https://kaithal.darshanacademy.org/event/national-workshop-for-pre-primary-teachers/
CATEGORIES:PROFESSIONAL DEVELOPMENT PROGRAMME
END:VEVENT
BEGIN:VEVENT
DTSTART;TZID=America/Los_Angeles:20230805T000000
DTEND;TZID=America/Los_Angeles:20230805T000000
DTSTAMP:20260424T174605
CREATED:20230510T050959Z
LAST-MODIFIED:20230510T050959Z
UID:4451-1691193600-1691193600@kaithal.darshanacademy.org
SUMMARY:ZONAL WORKSHOP FOR TEACHERS TEACHING MATHEMATICS (III-V)
DESCRIPTION:
URL:https://kaithal.darshanacademy.org/event/zonal-workshop-for-teachers-teaching-mathematics-iii-v/
CATEGORIES:PROFESSIONAL DEVELOPMENT PROGRAMME
END:VEVENT
BEGIN:VEVENT
DTSTART;TZID=America/Los_Angeles:20230727T000000
DTEND;TZID=America/Los_Angeles:20230727T000000
DTSTAMP:20260424T174605
CREATED:20230510T050959Z
LAST-MODIFIED:20230510T050959Z
UID:4448-1690416000-1690416000@kaithal.darshanacademy.org
SUMMARY:ZONAL WORKSHOP ON FOUNDATIONAL LITERACY AND NUMERACY FOR MOTHER TEACHERS (I - II)
DESCRIPTION:
URL:https://kaithal.darshanacademy.org/event/zonal-workshop-on-foundational-literacy-and-numeracy-for-mother-teachers-i-ii/
CATEGORIES:PROFESSIONAL DEVELOPMENT PROGRAMME
END:VEVENT
BEGIN:VEVENT
DTSTART;TZID=America/Los_Angeles:20230622T000000
DTEND;TZID=America/Los_Angeles:20230624T000000
DTSTAMP:20260424T174605
CREATED:20230510T050945Z
LAST-MODIFIED:20230510T050945Z
UID:4441-1687392000-1687564800@kaithal.darshanacademy.org
SUMMARY:NATIONAL WORKSHOP FOR PRINCIPALS/ HEADS / SENIOR COORDINATORS
DESCRIPTION:
URL:https://kaithal.darshanacademy.org/event/national-workshop-for-principals-heads-senior-coordinators/
CATEGORIES:PROFESSIONAL DEVELOPMENT PROGRAMME
END:VEVENT
BEGIN:VEVENT
DTSTART;TZID=America/Los_Angeles:20230604T000000
DTEND;TZID=America/Los_Angeles:20230604T000000
DTSTAMP:20260424T174605
CREATED:20230510T050945Z
LAST-MODIFIED:20230510T050945Z
UID:4439-1685836800-1685836800@kaithal.darshanacademy.org
SUMMARY:LOG ON TO ONLINE SPIRITUAL CURRICULUM COURSE FOR NEW TEACHERS
DESCRIPTION:
URL:https://kaithal.darshanacademy.org/event/log-on-to-online-spiritual-curriculum-course-for-new-teachers/
CATEGORIES:PROFESSIONAL DEVELOPMENT PROGRAMME
END:VEVENT
BEGIN:VEVENT
DTSTART;TZID=America/Los_Angeles:20230603T000000
DTEND;TZID=America/Los_Angeles:20230603T000000
DTSTAMP:20260424T174605
CREATED:20230510T050945Z
LAST-MODIFIED:20230510T050945Z
UID:4438-1685750400-1685750400@kaithal.darshanacademy.org
SUMMARY:NATIONAL WORKSHOP FOR TEACHER TRAINERS OF SPIRITUAL CURRICULUM
DESCRIPTION:
URL:https://kaithal.darshanacademy.org/event/national-workshop-for-teacher-trainers-of-spiritual-curriculum/
CATEGORIES:PROFESSIONAL DEVELOPMENT PROGRAMME
END:VEVENT
BEGIN:VEVENT
DTSTART;TZID=America/Los_Angeles:20230601T000000
DTEND;TZID=America/Los_Angeles:20230602T000000
DTSTAMP:20260424T174605
CREATED:20230510T050944Z
LAST-MODIFIED:20230510T050944Z
UID:4437-1685577600-1685664000@kaithal.darshanacademy.org
SUMMARY:INTERNAL WORKSHOP ON METHODOLOGY
DESCRIPTION:
URL:https://kaithal.darshanacademy.org/event/internal-workshop-on-methodology/
CATEGORIES:PROFESSIONAL DEVELOPMENT PROGRAMME
END:VEVENT
BEGIN:VEVENT
DTSTART;TZID=America/Los_Angeles:20230519T000000
DTEND;TZID=America/Los_Angeles:20230520T000000
DTSTAMP:20260424T174605
CREATED:20230510T050921Z
LAST-MODIFIED:20230510T050921Z
UID:4429-1684454400-1684540800@kaithal.darshanacademy.org
SUMMARY:NATIONAL WORKSHOP OF SPIRITUAL CURRICULUM TEACHING TIPS WORKSHOP / RAIN DANCE(NUR-II)
DESCRIPTION:
URL:https://kaithal.darshanacademy.org/event/national-workshop-of-spiritual-curriculum-teaching-tips-workshop-rain-dancenur-ii/
CATEGORIES:PROFESSIONAL DEVELOPMENT PROGRAMME
END:VEVENT
END:VCALENDAR