BEGIN:VCALENDAR
VERSION:2.0
PRODID:-//DA Kaithal - ECPv6.0.12//NONSGML v1.0//EN
CALSCALE:GREGORIAN
METHOD:PUBLISH
X-ORIGINAL-URL:https://kaithal.darshanacademy.org
X-WR-CALDESC:Events for DA Kaithal
REFRESH-INTERVAL;VALUE=DURATION:PT1H
X-Robots-Tag:noindex
X-PUBLISHED-TTL:PT1H
BEGIN:VTIMEZONE
TZID:America/Los_Angeles
BEGIN:DAYLIGHT
TZOFFSETFROM:-0800
TZOFFSETTO:-0700
TZNAME:PDT
DTSTART:20230312T100000
END:DAYLIGHT
BEGIN:STANDARD
TZOFFSETFROM:-0700
TZOFFSETTO:-0800
TZNAME:PST
DTSTART:20231105T090000
END:STANDARD
BEGIN:DAYLIGHT
TZOFFSETFROM:-0800
TZOFFSETTO:-0700
TZNAME:PDT
DTSTART:20240310T100000
END:DAYLIGHT
BEGIN:STANDARD
TZOFFSETFROM:-0700
TZOFFSETTO:-0800
TZNAME:PST
DTSTART:20241103T090000
END:STANDARD
END:VTIMEZONE
BEGIN:VEVENT
DTSTART;TZID=America/Los_Angeles:20240217T000000
DTEND;TZID=America/Los_Angeles:20240217T000000
DTSTAMP:20260424T175152
CREATED:20230510T051303Z
LAST-MODIFIED:20230510T051303Z
UID:4515-1708128000-1708128000@kaithal.darshanacademy.org
SUMMARY:GRAND PARENTS' DAY CELEBRATION
DESCRIPTION:
URL:https://kaithal.darshanacademy.org/event/grand-parents-day-celebration/
CATEGORIES:EVENT
END:VEVENT
BEGIN:VEVENT
DTSTART;TZID=America/Los_Angeles:20240201T000000
DTEND;TZID=America/Los_Angeles:20240205T000000
DTSTAMP:20260424T175152
CREATED:20230510T051303Z
LAST-MODIFIED:20230510T051303Z
UID:4513-1706745600-1707091200@kaithal.darshanacademy.org
SUMMARY:KIRPAL WEEK OF LOVING KINDNESS
DESCRIPTION:
URL:https://kaithal.darshanacademy.org/event/kirpal-week-of-loving-kindness/
CATEGORIES:EVENT
END:VEVENT
BEGIN:VEVENT
DTSTART;TZID=America/Los_Angeles:20240131T000000
DTEND;TZID=America/Los_Angeles:20240131T000000
DTSTAMP:20260424T175152
CREATED:20230510T051303Z
LAST-MODIFIED:20230510T051303Z
UID:4512-1706659200-1706659200@kaithal.darshanacademy.org
SUMMARY:ART EXHIBITION/ CREATE YOUR OWN MUSIUM (NUR-VIII)
DESCRIPTION:
URL:https://kaithal.darshanacademy.org/event/art-exhibition-create-your-own-musium-nur-viii/
CATEGORIES:EVENT
END:VEVENT
BEGIN:VEVENT
DTSTART;TZID=America/Los_Angeles:20240125T000000
DTEND;TZID=America/Los_Angeles:20240125T000000
DTSTAMP:20260424T175152
CREATED:20230510T051242Z
LAST-MODIFIED:20230510T051242Z
UID:4509-1706140800-1706140800@kaithal.darshanacademy.org
SUMMARY:WRITING COMPETITION (NUR & KG)\, SPELL BEE COMPETITION ( I & II)
DESCRIPTION:
URL:https://kaithal.darshanacademy.org/event/writing-competition-nur-kg-spell-bee-competition-i-ii/
CATEGORIES:EVENT
END:VEVENT
BEGIN:VEVENT
DTSTART;TZID=America/Los_Angeles:20240120T000000
DTEND;TZID=America/Los_Angeles:20240120T000000
DTSTAMP:20260424T175152
CREATED:20230510T051242Z
LAST-MODIFIED:20230510T051242Z
UID:4508-1705708800-1705708800@kaithal.darshanacademy.org
SUMMARY:NEWSPAPER READING COMPETITION (VI-VIII)/ BOOK READING COMPETITION (III-V)
DESCRIPTION:
URL:https://kaithal.darshanacademy.org/event/newspaper-reading-competition-vi-viii-book-reading-competition-iii-v/
CATEGORIES:EVENT
END:VEVENT
BEGIN:VEVENT
DTSTART;TZID=America/Los_Angeles:20231230T000000
DTEND;TZID=America/Los_Angeles:20231230T000000
DTSTAMP:20260424T175152
CREATED:20230510T051232Z
LAST-MODIFIED:20230510T051232Z
UID:4502-1703894400-1703894400@kaithal.darshanacademy.org
SUMMARY:SPORTS MEET
DESCRIPTION:
URL:https://kaithal.darshanacademy.org/event/sports-meet/
CATEGORIES:EVENT
END:VEVENT
BEGIN:VEVENT
DTSTART;TZID=America/Los_Angeles:20231222T000000
DTEND;TZID=America/Los_Angeles:20231222T000000
DTSTAMP:20260424T175152
CREATED:20230510T051222Z
LAST-MODIFIED:20230510T051222Z
UID:4498-1703203200-1703203200@kaithal.darshanacademy.org
SUMMARY:NATIONAL MATHEMATICS DAY/ CHRISTMAS DAY CELEBRATION
DESCRIPTION:
URL:https://kaithal.darshanacademy.org/event/national-mathematics-day-christmas-day-celebration/
CATEGORIES:EVENT
END:VEVENT
BEGIN:VEVENT
DTSTART;TZID=America/Los_Angeles:20231118T000000
DTEND;TZID=America/Los_Angeles:20231118T000000
DTSTAMP:20260424T175152
CREATED:20230510T051201Z
LAST-MODIFIED:20230510T051201Z
UID:4490-1700265600-1700265600@kaithal.darshanacademy.org
SUMMARY:POETRY FEST FINAL
DESCRIPTION:
URL:https://kaithal.darshanacademy.org/event/poetry-fest-final/
CATEGORIES:EVENT
END:VEVENT
BEGIN:VEVENT
DTSTART;TZID=America/Los_Angeles:20231110T000000
DTEND;TZID=America/Los_Angeles:20231110T000000
DTSTAMP:20260424T175152
CREATED:20230510T051201Z
LAST-MODIFIED:20230510T051201Z
UID:4487-1699574400-1699574400@kaithal.darshanacademy.org
SUMMARY:DIWALI MELA
DESCRIPTION:
URL:https://kaithal.darshanacademy.org/event/diwali-mela/
CATEGORIES:EVENT
END:VEVENT
BEGIN:VEVENT
DTSTART;TZID=America/Los_Angeles:20231109T000000
DTEND;TZID=America/Los_Angeles:20231109T000000
DTSTAMP:20260424T175152
CREATED:20230510T051145Z
LAST-MODIFIED:20230510T051145Z
UID:4486-1699488000-1699488000@kaithal.darshanacademy.org
SUMMARY:COLOURING ON DIYA (NUR-UKG) DIYA DECORATION (I-VIII)
DESCRIPTION:
URL:https://kaithal.darshanacademy.org/event/colouring-on-diya-nur-ukg-diya-decoration-i-viii/
CATEGORIES:EVENT
END:VEVENT
BEGIN:VEVENT
DTSTART;TZID=America/Los_Angeles:20231031T000000
DTEND;TZID=America/Los_Angeles:20231031T000000
DTSTAMP:20260424T175152
CREATED:20230510T051145Z
LAST-MODIFIED:20230510T051145Z
UID:4483-1698710400-1698710400@kaithal.darshanacademy.org
SUMMARY:HARYANA DAY CELEBRATION (I-VIII)/ FANCY DRESS COMPETITION (NUR- UKG)
DESCRIPTION:
URL:https://kaithal.darshanacademy.org/event/haryana-day-celebration-i-viii-fancy-dress-competition-nur-ukg/
CATEGORIES:EVENT
END:VEVENT
BEGIN:VEVENT
DTSTART;TZID=America/Los_Angeles:20231016T000000
DTEND;TZID=America/Los_Angeles:20231016T000000
DTSTAMP:20260424T175152
CREATED:20230510T051107Z
LAST-MODIFIED:20230510T051107Z
UID:4478-1697414400-1697414400@kaithal.darshanacademy.org
SUMMARY:POETRY FEST (STARTS)
DESCRIPTION:
URL:https://kaithal.darshanacademy.org/event/poetry-fest-starts/
CATEGORIES:EVENT
END:VEVENT
BEGIN:VEVENT
DTSTART;TZID=America/Los_Angeles:20231009T000000
DTEND;TZID=America/Los_Angeles:20231014T000000
DTSTAMP:20260424T175152
CREATED:20230510T051050Z
LAST-MODIFIED:20230510T051050Z
UID:4476-1696809600-1697241600@kaithal.darshanacademy.org
SUMMARY:ANNUAL PROJECT WEEK (NUR-VIII)
DESCRIPTION:
URL:https://kaithal.darshanacademy.org/event/annual-project-week-nur-viii/
CATEGORIES:EVENT
END:VEVENT
BEGIN:VEVENT
DTSTART;TZID=America/Los_Angeles:20230925T000000
DTEND;TZID=America/Los_Angeles:20230925T000000
DTSTAMP:20260424T175152
CREATED:20230510T051042Z
LAST-MODIFIED:20230510T051042Z
UID:4471-1695600000-1695600000@kaithal.darshanacademy.org
SUMMARY:FUN TRIP (NUR-UKG)
DESCRIPTION:
URL:https://kaithal.darshanacademy.org/event/fun-trip-nur-ukg/
CATEGORIES:EVENT
END:VEVENT
BEGIN:VEVENT
DTSTART;TZID=America/Los_Angeles:20230915T000000
DTEND;TZID=America/Los_Angeles:20230919T000000
DTSTAMP:20260424T175152
CREATED:20230510T051042Z
LAST-MODIFIED:20230510T051042Z
UID:4468-1694736000-1695081600@kaithal.darshanacademy.org
SUMMARY:RAJINDER WEEK OF MEDITATION AND PEACE
DESCRIPTION:
URL:https://kaithal.darshanacademy.org/event/rajinder-week-of-meditation-and-peace/
CATEGORIES:EVENT
END:VEVENT
BEGIN:VEVENT
DTSTART;TZID=America/Los_Angeles:20230908T000000
DTEND;TZID=America/Los_Angeles:20230913T000000
DTSTAMP:20260424T175152
CREATED:20230510T051030Z
LAST-MODIFIED:20230510T051030Z
UID:4465-1694131200-1694563200@kaithal.darshanacademy.org
SUMMARY:DARSHAN WEEK OF LOVE AND SERVICE
DESCRIPTION:
URL:https://kaithal.darshanacademy.org/event/darshan-week-of-love-and-service/
CATEGORIES:EVENT
END:VEVENT
BEGIN:VEVENT
DTSTART;TZID=America/Los_Angeles:20230906T000000
DTEND;TZID=America/Los_Angeles:20230906T000000
DTSTAMP:20260424T175152
CREATED:20230510T051030Z
LAST-MODIFIED:20230510T051030Z
UID:4463-1693958400-1693958400@kaithal.darshanacademy.org
SUMMARY:JANAMASHTAMI CELEBRATION (NUR-UKG)
DESCRIPTION:
URL:https://kaithal.darshanacademy.org/event/janamashtami-celebration-nur-ukg/
CATEGORIES:EVENT
END:VEVENT
BEGIN:VEVENT
DTSTART;TZID=America/Los_Angeles:20230905T000000
DTEND;TZID=America/Los_Angeles:20230905T000000
DTSTAMP:20260424T175152
CREATED:20230510T051030Z
LAST-MODIFIED:20230510T051030Z
UID:4462-1693872000-1693872000@kaithal.darshanacademy.org
SUMMARY:TEACHERS DAY CELEBRATION
DESCRIPTION:
URL:https://kaithal.darshanacademy.org/event/teachers-day-celebration/
CATEGORIES:EVENT
END:VEVENT
BEGIN:VEVENT
DTSTART;TZID=America/Los_Angeles:20230829T000000
DTEND;TZID=America/Los_Angeles:20230829T000000
DTSTAMP:20260424T175152
CREATED:20230510T051010Z
LAST-MODIFIED:20230510T051010Z
UID:4460-1693267200-1693267200@kaithal.darshanacademy.org
SUMMARY:RAKHI COLOURING( NUR-UKG)\, RAKHI MAKING (I -V) THALI DECORATION COMPETITION (VI -VIII)
DESCRIPTION:
URL:https://kaithal.darshanacademy.org/event/rakhi-colouring-nur-ukg-rakhi-making-i-v-thali-decoration-competition-vi-viii/
CATEGORIES:EVENT
END:VEVENT
BEGIN:VEVENT
DTSTART;TZID=America/Los_Angeles:20230818T000000
DTEND;TZID=America/Los_Angeles:20230818T000000
DTSTAMP:20260424T175152
CREATED:20230510T051006Z
LAST-MODIFIED:20230510T051006Z
UID:4456-1692316800-1692316800@kaithal.darshanacademy.org
SUMMARY:TEEJ CELEBRATION / MEHANDI ACTIVITY FOR GIRLS
DESCRIPTION:
URL:https://kaithal.darshanacademy.org/event/teej-celebration-mehandi-activity-for-girls/
CATEGORIES:EVENT
END:VEVENT
BEGIN:VEVENT
DTSTART;TZID=America/Los_Angeles:20230814T000000
DTEND;TZID=America/Los_Angeles:20230814T000000
DTSTAMP:20260424T175152
CREATED:20230510T051005Z
LAST-MODIFIED:20230510T051005Z
UID:4454-1691971200-1691971200@kaithal.darshanacademy.org
SUMMARY:INDEPENDENCE DAY CELEBRATION/ FACE PAINTING COMPETITION
DESCRIPTION:
URL:https://kaithal.darshanacademy.org/event/independence-day-celebration-face-painting-competition/
CATEGORIES:EVENT
END:VEVENT
BEGIN:VEVENT
DTSTART;TZID=America/Los_Angeles:20230811T000000
DTEND;TZID=America/Los_Angeles:20230811T000000
DTSTAMP:20260424T175152
CREATED:20230510T051005Z
LAST-MODIFIED:20230510T051005Z
UID:4453-1691712000-1691712000@kaithal.darshanacademy.org
SUMMARY:CARTOON DAY (NUR- UKG)
DESCRIPTION:
URL:https://kaithal.darshanacademy.org/event/cartoon-day-nur-ukg/
CATEGORIES:EVENT
END:VEVENT
BEGIN:VEVENT
DTSTART;TZID=America/Los_Angeles:20230805T000000
DTEND;TZID=America/Los_Angeles:20230805T000000
DTSTAMP:20260424T175152
CREATED:20230510T051005Z
LAST-MODIFIED:20230510T051005Z
UID:4452-1691193600-1691193600@kaithal.darshanacademy.org
SUMMARY:FLAMELESS COOKING COMPETITION ( III - VIII)
DESCRIPTION:
URL:https://kaithal.darshanacademy.org/event/flameless-cooking-competition-iii-viii/
CATEGORIES:EVENT
END:VEVENT
BEGIN:VEVENT
DTSTART;TZID=America/Los_Angeles:20230729T000000
DTEND;TZID=America/Los_Angeles:20230729T000000
DTSTAMP:20260424T175152
CREATED:20230510T050959Z
LAST-MODIFIED:20230510T050959Z
UID:4449-1690588800-1690588800@kaithal.darshanacademy.org
SUMMARY:YOGA COMPETITION (III- VIII)
DESCRIPTION:
URL:https://kaithal.darshanacademy.org/event/yoga-competition-iii-viii/
CATEGORIES:EVENT
END:VEVENT
BEGIN:VEVENT
DTSTART;TZID=America/Los_Angeles:20230721T000000
DTEND;TZID=America/Los_Angeles:20230721T000000
DTSTAMP:20260424T175152
CREATED:20230510T050952Z
LAST-MODIFIED:20230510T050952Z
UID:4446-1689897600-1689897600@kaithal.darshanacademy.org
SUMMARY:BAG CLEANLINESS COMPETITION (NUR.- II)\, CLASS ROOM DECORATION (III- VIII)
DESCRIPTION:
URL:https://kaithal.darshanacademy.org/event/bag-cleanliness-competition-nur-ii-class-room-decoration-iii-viii/
CATEGORIES:EVENT
END:VEVENT
BEGIN:VEVENT
DTSTART;TZID=America/Los_Angeles:20230701T000000
DTEND;TZID=America/Los_Angeles:20230707T000000
DTSTAMP:20260424T175152
CREATED:20230510T050952Z
LAST-MODIFIED:20230510T050952Z
UID:4444-1688169600-1688688000@kaithal.darshanacademy.org
SUMMARY:VAN MAHOTSAV
DESCRIPTION:
URL:https://kaithal.darshanacademy.org/event/van-mahotsav/
CATEGORIES:EVENT
END:VEVENT
BEGIN:VEVENT
DTSTART;TZID=America/Los_Angeles:20230701T000000
DTEND;TZID=America/Los_Angeles:20230701T000000
DTSTAMP:20260424T175152
CREATED:20230510T050952Z
LAST-MODIFIED:20230510T050952Z
UID:4443-1688169600-1688169600@kaithal.darshanacademy.org
SUMMARY:ACTIVITY - TIE KNOTING (III-VIII)\, SHOE LACKING (I-II)
DESCRIPTION:
URL:https://kaithal.darshanacademy.org/event/activity-tie-knoting-iii-viii-shoe-lacking-i-ii/
CATEGORIES:EVENT
END:VEVENT
BEGIN:VEVENT
DTSTART;TZID=America/Los_Angeles:20230621T000000
DTEND;TZID=America/Los_Angeles:20230621T000000
DTSTAMP:20260424T175152
CREATED:20230510T050945Z
LAST-MODIFIED:20230510T050945Z
UID:4440-1687305600-1687305600@kaithal.darshanacademy.org
SUMMARY:INTERNATIONAL YOGA DAY (I-VIII)
DESCRIPTION:
URL:https://kaithal.darshanacademy.org/event/international-yoga-day-i-viii/
CATEGORIES:EVENT
END:VEVENT
BEGIN:VEVENT
DTSTART;TZID=America/Los_Angeles:20230601T000000
DTEND;TZID=America/Los_Angeles:20230610T000000
DTSTAMP:20260424T175152
CREATED:20230510T050931Z
LAST-MODIFIED:20230510T050931Z
UID:4436-1685577600-1686355200@kaithal.darshanacademy.org
SUMMARY:SUMMER CAMP (NUR-VIII)
DESCRIPTION:
URL:https://kaithal.darshanacademy.org/event/summer-camp-nur-viii/
CATEGORIES:EVENT
END:VEVENT
BEGIN:VEVENT
DTSTART;TZID=America/Los_Angeles:20230531T000000
DTEND;TZID=America/Los_Angeles:20230531T000000
DTSTAMP:20260424T175152
CREATED:20230510T050931Z
LAST-MODIFIED:20230510T050931Z
UID:4434-1685491200-1685491200@kaithal.darshanacademy.org
SUMMARY:MEDITATION DAY (I-VIII)
DESCRIPTION:
URL:https://kaithal.darshanacademy.org/event/meditation-day-i-viii/
CATEGORIES:EVENT
END:VEVENT
END:VCALENDAR